BEGIN:VCALENDAR
VERSION:2.0
PRODID:-//NetAuktion//NONSGML NetAuktion//SV
METHOD:PUBLISH
BEGIN:VEVENT
UID:20260425T134315-1256978763-netauktion.se
DTSTAMP:20260425T134315
DTSTART:20090116T025300
DTEND:20090116T025600
SUMMARY:Netauktion objekt 0153-006 Auktionspåminnelse
DESCRIPTION:Länk till objektet du var intresserad av: https://staging.netauktion.se/auktion/produkt/mazda-4x4-med-plog-95-byf122
END:VEVENT
END:VCALENDAR
