BEGIN:VCALENDAR
VERSION:2.0
PRODID:-//NetAuktion//NONSGML NetAuktion//SV
METHOD:PUBLISH
BEGIN:VEVENT
UID:20260425T134353-1817915350-netauktion.se
DTSTAMP:20260425T134353
DTSTART:20090116T024000
DTEND:20090116T024300
SUMMARY:Netauktion objekt 0153-007 Auktionspåminnelse
DESCRIPTION:Länk till objektet du var intresserad av: https://staging.netauktion.se/auktion/produkt/vw-lt-31-med-tippflak-92-pwy102
END:VEVENT
END:VCALENDAR
