BEGIN:VCALENDAR
VERSION:2.0
PRODID:-//NetAuktion//NONSGML NetAuktion//SV
METHOD:PUBLISH
BEGIN:VEVENT
UID:20260425T134423-1263102727-netauktion.se
DTSTAMP:20260425T134423
DTSTART:20090116T024500
DTEND:20090116T024800
SUMMARY:Netauktion objekt 0037-041 Auktionspåminnelse
DESCRIPTION:Länk till objektet du var intresserad av: https://staging.netauktion.se/auktion/produkt/hyster-eltruck-17ton-3
END:VEVENT
END:VCALENDAR
