BEGIN:VCALENDAR
VERSION:2.0
PRODID:-//NetAuktion//NONSGML NetAuktion//SV
METHOD:PUBLISH
BEGIN:VEVENT
UID:20260421T104600-1243237603-netauktion.se
DTSTAMP:20260421T104600
DTSTART:20110131T023200
DTEND:20110131T023500
SUMMARY:Netauktion objekt 0745-001 Auktionspåminnelse
DESCRIPTION:Länk till objektet du var intresserad av: https://staging.netauktion.se/auktion/produkt/kontorsstolar-skarmvaggar
END:VEVENT
END:VCALENDAR
