BEGIN:VCALENDAR
VERSION:2.0
PRODID:-//NetAuktion//NONSGML NetAuktion//SV
METHOD:PUBLISH
BEGIN:VEVENT
UID:20260425T134425-661813630-netauktion.se
DTSTAMP:20260425T134425
DTSTART:20090116T024300
DTEND:20090116T024600
SUMMARY:Netauktion objekt 0153-008 Auktionspåminnelse
DESCRIPTION:Länk till objektet du var intresserad av: https://staging.netauktion.se/auktion/produkt/vw-lt31-flak-med-gallersidorpgb371
END:VEVENT
END:VCALENDAR
