BEGIN:VCALENDAR
VERSION:2.0
PRODID:-//NetAuktion//NONSGML NetAuktion//SV
METHOD:PUBLISH
BEGIN:VEVENT
UID:20260425T134312-1395507470-netauktion.se
DTSTAMP:20260425T134312
DTSTART:20090116T024800
DTEND:20090116T025100
SUMMARY:Netauktion objekt 0153-010 Auktionspåminnelse
DESCRIPTION:Länk till objektet du var intresserad av: https://staging.netauktion.se/auktion/produkt/vw-caravelle-arbetsbil-reparationsbehov
END:VEVENT
END:VCALENDAR
