BEGIN:VCALENDAR
VERSION:2.0
PRODID:-//NetAuktion//NONSGML NetAuktion//SV
METHOD:PUBLISH
BEGIN:VEVENT
UID:20260421T104305-1719611877-netauktion.se
DTSTAMP:20260421T104305
DTSTART:20110630T020600
DTEND:20110630T020900
SUMMARY:Netauktion objekt 0746-002 Auktionspåminnelse
DESCRIPTION:Länk till objektet du var intresserad av: https://staging.netauktion.se/auktion/produkt/frisorstol
END:VEVENT
END:VCALENDAR
