BEGIN:VCALENDAR
VERSION:2.0
PRODID:-//NetAuktion//NONSGML NetAuktion//SV
METHOD:PUBLISH
BEGIN:VEVENT
UID:20260425T134347-1877486864-netauktion.se
DTSTAMP:20260425T134347
DTSTART:20090116T030600
DTEND:20090116T030900
SUMMARY:Netauktion objekt 0153-011 Auktionspåminnelse
DESCRIPTION:Länk till objektet du var intresserad av: https://staging.netauktion.se/auktion/produkt/ford-transit-96-skap-oza279
END:VEVENT
END:VCALENDAR
