BEGIN:VCALENDAR
VERSION:2.0
PRODID:-//NetAuktion//NONSGML NetAuktion//SV
METHOD:PUBLISH
BEGIN:VEVENT
UID:20260425T134313-1872500826-netauktion.se
DTSTAMP:20260425T134313
DTSTART:20090116T025800
DTEND:20090116T030100
SUMMARY:Netauktion objekt 0153-012 Auktionspåminnelse
DESCRIPTION:Länk till objektet du var intresserad av: https://staging.netauktion.se/auktion/produkt/toyota-4x4-med-plog-jlw369
END:VEVENT
END:VCALENDAR
