BEGIN:VCALENDAR
VERSION:2.0
PRODID:-//NetAuktion//NONSGML NetAuktion//SV
METHOD:PUBLISH
BEGIN:VEVENT
UID:20260425T134348-2056766326-netauktion.se
DTSTAMP:20260425T134348
DTSTART:20090116T031200
DTEND:20090116T031500
SUMMARY:Netauktion objekt 0158-001 Auktionspåminnelse
DESCRIPTION:Länk till objektet du var intresserad av: https://staging.netauktion.se/auktion/produkt/dackbalanseringsmaskin-i-nyskick
END:VEVENT
END:VCALENDAR
