BEGIN:VCALENDAR
VERSION:2.0
PRODID:-//NetAuktion//NONSGML NetAuktion//SV
METHOD:PUBLISH
BEGIN:VEVENT
UID:20260425T134251-1403453714-netauktion.se
DTSTAMP:20260425T134251
DTSTART:20090116T031500
DTEND:20090116T031800
SUMMARY:Netauktion objekt 0158-002 Auktionspåminnelse
DESCRIPTION:Länk till objektet du var intresserad av: https://staging.netauktion.se/auktion/produkt/dackmonteringsmaskin-i-nyskick
END:VEVENT
END:VCALENDAR
