BEGIN:VCALENDAR
VERSION:2.0
PRODID:-//NetAuktion//NONSGML NetAuktion//SV
METHOD:PUBLISH
BEGIN:VEVENT
UID:20260425T134353-788070417-netauktion.se
DTSTAMP:20260425T134353
DTSTART:20090116T025400
DTEND:20090116T025700
SUMMARY:Netauktion objekt 0145-096 Auktionspåminnelse
DESCRIPTION:Länk till objektet du var intresserad av: https://staging.netauktion.se/auktion/produkt/akbar-sopmaskin-electrolux
END:VEVENT
END:VCALENDAR
