BEGIN:VCALENDAR
VERSION:2.0
PRODID:-//NetAuktion//NONSGML NetAuktion//SV
METHOD:PUBLISH
BEGIN:VEVENT
UID:20260425T134353-485644197-netauktion.se
DTSTAMP:20260425T134353
DTSTART:20090116T030300
DTEND:20090116T030600
SUMMARY:Netauktion objekt 0145-097 Auktionspåminnelse
DESCRIPTION:Länk till objektet du var intresserad av: https://staging.netauktion.se/auktion/produkt/akbar-skurmaskin-dulevo
END:VEVENT
END:VCALENDAR
