BEGIN:VCALENDAR
VERSION:2.0
PRODID:-//NetAuktion//NONSGML NetAuktion//SV
METHOD:PUBLISH
BEGIN:VEVENT
UID:20260425T134423-1882493315-netauktion.se
DTSTAMP:20260425T134423
DTSTART:20090116T031000
DTEND:20090116T031300
SUMMARY:Netauktion objekt 0145-098 Auktionspåminnelse
DESCRIPTION:Länk till objektet du var intresserad av: https://staging.netauktion.se/auktion/produkt/akbar-skurmaskin-advance
END:VEVENT
END:VCALENDAR
