BEGIN:VCALENDAR
VERSION:2.0
PRODID:-//NetAuktion//NONSGML NetAuktion//SV
METHOD:PUBLISH
BEGIN:VEVENT
UID:20260425T123425-745329528-netauktion.se
DTSTAMP:20260425T123425
DTSTART:20090129T005700
DTEND:20090129T010000
SUMMARY:Netauktion objekt 0159-001 Auktionspåminnelse
DESCRIPTION:Länk till objektet du var intresserad av: https://staging.netauktion.se/auktion/produkt/oljemalning-sign-j-ekman-1942
END:VEVENT
END:VCALENDAR
