BEGIN:VCALENDAR
VERSION:2.0
PRODID:-//NetAuktion//NONSGML NetAuktion//SV
METHOD:PUBLISH
BEGIN:VEVENT
UID:20260425T123435-1438717001-netauktion.se
DTSTAMP:20260425T123435
DTSTART:20090129T005800
DTEND:20090129T010100
SUMMARY:Netauktion objekt 0159-002 Auktionspåminnelse
DESCRIPTION:Länk till objektet du var intresserad av: https://staging.netauktion.se/auktion/produkt/oljemalning-sven-moell-1894-1974
END:VEVENT
END:VCALENDAR
