BEGIN:VCALENDAR
VERSION:2.0
PRODID:-//NetAuktion//NONSGML NetAuktion//SV
METHOD:PUBLISH
BEGIN:VEVENT
UID:20260425T123448-1438307406-netauktion.se
DTSTAMP:20260425T123448
DTSTART:20090129T010000
DTEND:20090129T010300
SUMMARY:Netauktion objekt 0159-004 Auktionspåminnelse
DESCRIPTION:Länk till objektet du var intresserad av: https://staging.netauktion.se/auktion/produkt/rorstrandporslin-19-delar-1950-60-tal
END:VEVENT
END:VCALENDAR
