BEGIN:VCALENDAR
VERSION:2.0
PRODID:-//NetAuktion//NONSGML NetAuktion//SV
METHOD:PUBLISH
BEGIN:VEVENT
UID:20260425T123435-854722093-netauktion.se
DTSTAMP:20260425T123435
DTSTART:20090129T010800
DTEND:20090129T011100
SUMMARY:Netauktion objekt 0159-008 Auktionspåminnelse
DESCRIPTION:Länk till objektet du var intresserad av: https://staging.netauktion.se/auktion/produkt/biblar-fotografialbum-och-1par-ljusplatar
END:VEVENT
END:VCALENDAR
