BEGIN:VCALENDAR
VERSION:2.0
PRODID:-//NetAuktion//NONSGML NetAuktion//SV
METHOD:PUBLISH
BEGIN:VEVENT
UID:20260425T134424-27803461-netauktion.se
DTSTAMP:20260425T134424
DTSTART:20090121T011100
DTEND:20090121T011400
SUMMARY:Netauktion objekt 0160-002 Auktionspåminnelse
DESCRIPTION:Länk till objektet du var intresserad av: https://staging.netauktion.se/auktion/produkt/displayhyllor-for-broshyrer
END:VEVENT
END:VCALENDAR
