BEGIN:VCALENDAR
VERSION:2.0
PRODID:-//NetAuktion//NONSGML NetAuktion//SV
METHOD:PUBLISH
BEGIN:VEVENT
UID:20260425T134355-855759045-netauktion.se
DTSTAMP:20260425T134355
DTSTART:20090121T010100
DTEND:20090121T010400
SUMMARY:Netauktion objekt 0160-003 Auktionspåminnelse
DESCRIPTION:Länk till objektet du var intresserad av: https://staging.netauktion.se/auktion/produkt/vaxter-och-krukor
END:VEVENT
END:VCALENDAR
