BEGIN:VCALENDAR
VERSION:2.0
PRODID:-//NetAuktion//NONSGML NetAuktion//SV
METHOD:PUBLISH
BEGIN:VEVENT
UID:20260425T134354-1867943091-netauktion.se
DTSTAMP:20260425T134354
DTSTART:20090121T010500
DTEND:20090121T010800
SUMMARY:Netauktion objekt 0160-004 Auktionspåminnelse
DESCRIPTION:Länk till objektet du var intresserad av: https://staging.netauktion.se/auktion/produkt/2st-kontorsplatser-mm
END:VEVENT
END:VCALENDAR
