BEGIN:VCALENDAR
VERSION:2.0
PRODID:-//NetAuktion//NONSGML NetAuktion//SV
METHOD:PUBLISH
BEGIN:VEVENT
UID:20260421T104256-764944663-netauktion.se
DTSTAMP:20260421T104256
DTSTART:20080523T001900
DTEND:20080523T002200
SUMMARY:Netauktion objekt 0004-144 Auktionspåminnelse
DESCRIPTION:Länk till objektet du var intresserad av: https://staging.netauktion.se/auktion/produkt/lek-och-ovning
END:VEVENT
END:VCALENDAR
