BEGIN:VCALENDAR
VERSION:2.0
PRODID:-//NetAuktion//NONSGML NetAuktion//SV
METHOD:PUBLISH
BEGIN:VEVENT
UID:20260425T134424-22801706-netauktion.se
DTSTAMP:20260425T134424
DTSTART:20090121T010200
DTEND:20090121T010500
SUMMARY:Netauktion objekt 0160-005 Auktionspåminnelse
DESCRIPTION:Länk till objektet du var intresserad av: https://staging.netauktion.se/auktion/produkt/fax-skrivare-och-kopiator
END:VEVENT
END:VCALENDAR
