BEGIN:VCALENDAR
VERSION:2.0
PRODID:-//NetAuktion//NONSGML NetAuktion//SV
METHOD:PUBLISH
BEGIN:VEVENT
UID:20260425T134424-1804089013-netauktion.se
DTSTAMP:20260425T134424
DTSTART:20090121T010300
DTEND:20090121T010600
SUMMARY:Netauktion objekt 0160-006 Auktionspåminnelse
DESCRIPTION:Länk till objektet du var intresserad av: https://staging.netauktion.se/auktion/produkt/server-tillbehor
END:VEVENT
END:VCALENDAR
