BEGIN:VCALENDAR
VERSION:2.0
PRODID:-//NetAuktion//NONSGML NetAuktion//SV
METHOD:PUBLISH
BEGIN:VEVENT
UID:20260425T134354-863963466-netauktion.se
DTSTAMP:20260425T134354
DTSTART:20090121T010600
DTEND:20090121T010900
SUMMARY:Netauktion objekt 0160-007 Auktionspåminnelse
DESCRIPTION:Länk till objektet du var intresserad av: https://staging.netauktion.se/auktion/produkt/portomaskin-och-sedelkontrollslampa-mm
END:VEVENT
END:VCALENDAR
