BEGIN:VCALENDAR
VERSION:2.0
PRODID:-//NetAuktion//NONSGML NetAuktion//SV
METHOD:PUBLISH
BEGIN:VEVENT
UID:20260425T134347-1070445171-netauktion.se
DTSTAMP:20260425T134347
DTSTART:20090121T010400
DTEND:20090121T010700
SUMMARY:Netauktion objekt 0160-008 Auktionspåminnelse
DESCRIPTION:Länk till objektet du var intresserad av: https://staging.netauktion.se/auktion/produkt/2st-datorer
END:VEVENT
END:VCALENDAR
