BEGIN:VCALENDAR
VERSION:2.0
PRODID:-//NetAuktion//NONSGML NetAuktion//SV
METHOD:PUBLISH
BEGIN:VEVENT
UID:20260421T104457-1202200423-netauktion.se
DTSTAMP:20260421T104457
DTSTART:20110331T020600
DTEND:20110331T020900
SUMMARY:Netauktion objekt 0752-071 Auktionspåminnelse
DESCRIPTION:Länk till objektet du var intresserad av: https://staging.netauktion.se/auktion/produkt/fikabord-3-set
END:VEVENT
END:VCALENDAR
