BEGIN:VCALENDAR
VERSION:2.0
PRODID:-//NetAuktion//NONSGML NetAuktion//SV
METHOD:PUBLISH
BEGIN:VEVENT
UID:20260425T134347-406822262-netauktion.se
DTSTAMP:20260425T134347
DTSTART:20090121T011200
DTEND:20090121T011500
SUMMARY:Netauktion objekt 0160-010 Auktionspåminnelse
DESCRIPTION:Länk till objektet du var intresserad av: https://staging.netauktion.se/auktion/produkt/2st-dammsugare-microvagsugn-mm
END:VEVENT
END:VCALENDAR
