BEGIN:VCALENDAR
VERSION:2.0
PRODID:-//NetAuktion//NONSGML NetAuktion//SV
METHOD:PUBLISH
BEGIN:VEVENT
UID:20260425T134425-1876748177-netauktion.se
DTSTAMP:20260425T134425
DTSTART:20090121T010700
DTEND:20090121T011000
SUMMARY:Netauktion objekt 0160-011 Auktionspåminnelse
DESCRIPTION:Länk till objektet du var intresserad av: https://staging.netauktion.se/auktion/produkt/2st-taklampor
END:VEVENT
END:VCALENDAR
