BEGIN:VCALENDAR
VERSION:2.0
PRODID:-//NetAuktion//NONSGML NetAuktion//SV
METHOD:PUBLISH
BEGIN:VEVENT
UID:20260425T134353-113103997-netauktion.se
DTSTAMP:20260425T134353
DTSTART:20090121T010800
DTEND:20090121T011100
SUMMARY:Netauktion objekt 0160-012 Auktionspåminnelse
DESCRIPTION:Länk till objektet du var intresserad av: https://staging.netauktion.se/auktion/produkt/kassaskap-4
END:VEVENT
END:VCALENDAR
