BEGIN:VCALENDAR
VERSION:2.0
PRODID:-//NetAuktion//NONSGML NetAuktion//SV
METHOD:PUBLISH
BEGIN:VEVENT
UID:20260425T134425-983869886-netauktion.se
DTSTAMP:20260425T134425
DTSTART:20090121T010900
DTEND:20090121T011200
SUMMARY:Netauktion objekt 0160-013 Auktionspåminnelse
DESCRIPTION:Länk till objektet du var intresserad av: https://staging.netauktion.se/auktion/produkt/trottoarpratare
END:VEVENT
END:VCALENDAR
