BEGIN:VCALENDAR
VERSION:2.0
PRODID:-//NetAuktion//NONSGML NetAuktion//SV
METHOD:PUBLISH
BEGIN:VEVENT
UID:20260421T104321-1603447743-netauktion.se
DTSTAMP:20260421T104321
DTSTART:20110131T021600
DTEND:20110131T021900
SUMMARY:Netauktion objekt 0207-255 Auktionspåminnelse
DESCRIPTION:Länk till objektet du var intresserad av: https://staging.netauktion.se/auktion/produkt/fingerborgsamling-silver-och-guld
END:VEVENT
END:VCALENDAR
