BEGIN:VCALENDAR
VERSION:2.0
PRODID:-//NetAuktion//NONSGML NetAuktion//SV
METHOD:PUBLISH
BEGIN:VEVENT
UID:20260425T134423-288268480-netauktion.se
DTSTAMP:20260425T134423
DTSTART:20090116T013100
DTEND:20090116T013400
SUMMARY:Netauktion objekt 0128-029 Auktionspåminnelse
DESCRIPTION:Länk till objektet du var intresserad av: https://staging.netauktion.se/auktion/produkt/takfaste-for-projektor-65-90cm-4
END:VEVENT
END:VCALENDAR
