BEGIN:VCALENDAR
VERSION:2.0
PRODID:-//NetAuktion//NONSGML NetAuktion//SV
METHOD:PUBLISH
BEGIN:VEVENT
UID:20260421T104453-1943744226-netauktion.se
DTSTAMP:20260421T104453
DTSTART:20110131T021500
DTEND:20110131T021800
SUMMARY:Netauktion objekt 0207-264 Auktionspåminnelse
DESCRIPTION:Länk till objektet du var intresserad av: https://staging.netauktion.se/auktion/produkt/parti-smycken
END:VEVENT
END:VCALENDAR
