BEGIN:VCALENDAR
VERSION:2.0
PRODID:-//NetAuktion//NONSGML NetAuktion//SV
METHOD:PUBLISH
BEGIN:VEVENT
UID:20260425T134355-1242634700-netauktion.se
DTSTAMP:20260425T134355
DTSTART:20090116T013200
DTEND:20090116T013500
SUMMARY:Netauktion objekt 0128-030 Auktionspåminnelse
DESCRIPTION:Länk till objektet du var intresserad av: https://staging.netauktion.se/auktion/produkt/takfaste-for-projektor-85-110cm
END:VEVENT
END:VCALENDAR
