BEGIN:VCALENDAR
VERSION:2.0
PRODID:-//NetAuktion//NONSGML NetAuktion//SV
METHOD:PUBLISH
BEGIN:VEVENT
UID:20260425T134424-589565589-netauktion.se
DTSTAMP:20260425T134424
DTSTART:20090116T013200
DTEND:20090116T013500
SUMMARY:Netauktion objekt 0128-032 Auktionspåminnelse
DESCRIPTION:Länk till objektet du var intresserad av: https://staging.netauktion.se/auktion/produkt/stoldskyddsbur-for-projektor-med-lasbara-bultar
END:VEVENT
END:VCALENDAR
