BEGIN:VCALENDAR
VERSION:2.0
PRODID:-//NetAuktion//NONSGML NetAuktion//SV
METHOD:PUBLISH
BEGIN:VEVENT
UID:20260425T134353-1337590674-netauktion.se
DTSTAMP:20260425T134353
DTSTART:20090116T023300
DTEND:20090116T023600
SUMMARY:Netauktion objekt 0128-033 Auktionspåminnelse
DESCRIPTION:Länk till objektet du var intresserad av: https://staging.netauktion.se/auktion/produkt/nytt-takracke-thule-411-for-bilar-med-rails
END:VEVENT
END:VCALENDAR
