BEGIN:VCALENDAR
VERSION:2.0
PRODID:-//NetAuktion//NONSGML NetAuktion//SV
METHOD:PUBLISH
BEGIN:VEVENT
UID:20260425T134354-272421162-netauktion.se
DTSTAMP:20260425T134354
DTSTART:20090116T013400
DTEND:20090116T013700
SUMMARY:Netauktion objekt 0128-034 Auktionspåminnelse
DESCRIPTION:Länk till objektet du var intresserad av: https://staging.netauktion.se/auktion/produkt/las-och-larm-for-datorer
END:VEVENT
END:VCALENDAR
