BEGIN:VCALENDAR
VERSION:2.0
PRODID:-//NetAuktion//NONSGML NetAuktion//SV
METHOD:PUBLISH
BEGIN:VEVENT
UID:20260421T104444-1182344051-netauktion.se
DTSTAMP:20260421T104444
DTSTART:20110131T023700
DTEND:20110131T024000
SUMMARY:Netauktion objekt 0672-053 Auktionspåminnelse
DESCRIPTION:Länk till objektet du var intresserad av: https://staging.netauktion.se/auktion/produkt/foma-varmepump-for-200m-166-2
END:VEVENT
END:VCALENDAR
