BEGIN:VCALENDAR
VERSION:2.0
PRODID:-//NetAuktion//NONSGML NetAuktion//SV
METHOD:PUBLISH
BEGIN:VEVENT
UID:20260421T104453-823753116-netauktion.se
DTSTAMP:20260421T104453
DTSTART:20110131T025900
DTEND:20110131T030200
SUMMARY:Netauktion objekt 0672-061 Auktionspåminnelse
DESCRIPTION:Länk till objektet du var intresserad av: https://staging.netauktion.se/auktion/produkt/foma-varmepump-for-200m-166-10
END:VEVENT
END:VCALENDAR
