BEGIN:VCALENDAR
VERSION:2.0
PRODID:-//NetAuktion//NONSGML NetAuktion//SV
METHOD:PUBLISH
BEGIN:VEVENT
UID:20260425T134353-91345363-netauktion.se
DTSTAMP:20260425T134353
DTSTART:20090116T013500
DTEND:20090116T013800
SUMMARY:Netauktion objekt 0128-036 Auktionspåminnelse
DESCRIPTION:Länk till objektet du var intresserad av: https://staging.netauktion.se/auktion/produkt/takfaste-for-projektor-300-350mm
END:VEVENT
END:VCALENDAR
