BEGIN:VCALENDAR
VERSION:2.0
PRODID:-//NetAuktion//NONSGML NetAuktion//SV
METHOD:PUBLISH
BEGIN:VEVENT
UID:20260421T104426-842320626-netauktion.se
DTSTAMP:20260421T104426
DTSTART:20110131T032100
DTEND:20110131T032400
SUMMARY:Netauktion objekt 0687-027 Auktionspåminnelse
DESCRIPTION:Länk till objektet du var intresserad av: https://staging.netauktion.se/auktion/produkt/monteringsset-7m-r407a-2
END:VEVENT
END:VCALENDAR
