BEGIN:VCALENDAR
VERSION:2.0
PRODID:-//NetAuktion//NONSGML NetAuktion//SV
METHOD:PUBLISH
BEGIN:VEVENT
UID:20260425T134425-1493959279-netauktion.se
DTSTAMP:20260425T134425
DTSTART:20090116T013600
DTEND:20090116T013900
SUMMARY:Netauktion objekt 0128-037 Auktionspåminnelse
DESCRIPTION:Länk till objektet du var intresserad av: https://staging.netauktion.se/auktion/produkt/takfaste-for-projektor-300-350mm-2
END:VEVENT
END:VCALENDAR
