BEGIN:VCALENDAR
VERSION:2.0
PRODID:-//NetAuktion//NONSGML NetAuktion//SV
METHOD:PUBLISH
BEGIN:VEVENT
UID:20260425T134425-1781228442-netauktion.se
DTSTAMP:20260425T134425
DTSTART:20090123T005700
DTEND:20090123T010000
SUMMARY:Netauktion objekt 0163-001 Auktionspåminnelse
DESCRIPTION:Länk till objektet du var intresserad av: https://staging.netauktion.se/auktion/produkt/glasbord-med-svarta-stolar
END:VEVENT
END:VCALENDAR
