BEGIN:VCALENDAR
VERSION:2.0
PRODID:-//NetAuktion//NONSGML NetAuktion//SV
METHOD:PUBLISH
BEGIN:VEVENT
UID:20260425T134423-1266389379-netauktion.se
DTSTAMP:20260425T134423
DTSTART:20090123T010200
DTEND:20090123T010500
SUMMARY:Netauktion objekt 0136-007 Auktionspåminnelse
DESCRIPTION:Länk till objektet du var intresserad av: https://staging.netauktion.se/auktion/produkt/nya-klader-jackor-trojor-m-m
END:VEVENT
END:VCALENDAR
