BEGIN:VCALENDAR
VERSION:2.0
PRODID:-//NetAuktion//NONSGML NetAuktion//SV
METHOD:PUBLISH
BEGIN:VEVENT
UID:20260425T134424-1213413121-netauktion.se
DTSTAMP:20260425T134424
DTSTART:20090123T011300
DTEND:20090123T011600
SUMMARY:Netauktion objekt 0163-002 Auktionspåminnelse
DESCRIPTION:Länk till objektet du var intresserad av: https://staging.netauktion.se/auktion/produkt/packbord-med-skarare-215x85cm
END:VEVENT
END:VCALENDAR
