BEGIN:VCALENDAR
VERSION:2.0
PRODID:-//NetAuktion//NONSGML NetAuktion//SV
METHOD:PUBLISH
BEGIN:VEVENT
UID:20260425T134347-1396405966-netauktion.se
DTSTAMP:20260425T134347
DTSTART:20090123T010100
DTEND:20090123T010400
SUMMARY:Netauktion objekt 0163-003 Auktionspåminnelse
DESCRIPTION:Länk till objektet du var intresserad av: https://staging.netauktion.se/auktion/produkt/4st-skrivbord-hyllor-mm
END:VEVENT
END:VCALENDAR
