BEGIN:VCALENDAR
VERSION:2.0
PRODID:-//NetAuktion//NONSGML NetAuktion//SV
METHOD:PUBLISH
BEGIN:VEVENT
UID:20260425T134245-78262143-netauktion.se
DTSTAMP:20260425T134245
DTSTART:20090123T010000
DTEND:20090123T010300
SUMMARY:Netauktion objekt 0163-004 Auktionspåminnelse
DESCRIPTION:Länk till objektet du var intresserad av: https://staging.netauktion.se/auktion/produkt/hylla-4-plan-i-eklaminat
END:VEVENT
END:VCALENDAR
