BEGIN:VCALENDAR
VERSION:2.0
PRODID:-//NetAuktion//NONSGML NetAuktion//SV
METHOD:PUBLISH
BEGIN:VEVENT
UID:20260425T134347-2078414584-netauktion.se
DTSTAMP:20260425T134347
DTSTART:20090123T010300
DTEND:20090123T010600
SUMMARY:Netauktion objekt 0163-005 Auktionspåminnelse
DESCRIPTION:Länk till objektet du var intresserad av: https://staging.netauktion.se/auktion/produkt/3st-hyllor-med-hyllplan-i-frostat-glas
END:VEVENT
END:VCALENDAR
