BEGIN:VCALENDAR
VERSION:2.0
PRODID:-//NetAuktion//NONSGML NetAuktion//SV
METHOD:PUBLISH
BEGIN:VEVENT
UID:20260425T134425-1006003313-netauktion.se
DTSTAMP:20260425T134425
DTSTART:20090116T020000
DTEND:20090116T020300
SUMMARY:Netauktion objekt 0164-001 Auktionspåminnelse
DESCRIPTION:Länk till objektet du var intresserad av: https://staging.netauktion.se/auktion/produkt/volvo-855-94-pxc252
END:VEVENT
END:VCALENDAR
